BEGIN:VCALENDAR
VERSION:2.0
PRODID:-//https://www.lakebernadettehoa.com.195-250-26-87.cpanel.site///NONSGML kigkonsult.se iCalcreator 2.10.15//
METHOD:PUBLISH
BEGIN:VEVENT
UID:20260422T092524UTC-12145cL6Tb@https://www.lakebernadettehoa.com.195-250
 -26-87.cpanel.site/
DTSTAMP:20260422T092524Z
DESCRIPTION:Except Holidays or Clubhouse Closures https://www.lakebernadett
 ehoa.com.195-250-26-87.cpanel.site/community-events/event/13924-line-danci
 ng.html
DTSTART:20300815T120000Z
DTEND:20300815T130000Z
LOCATION:Lake Bernadette Community Clubhouse (5410 Golf Links Blvd\, Zephyr
 hills\, Florida\, 33541)
SUMMARY:Line Dancing
URL:https://www.lakebernadettehoa.com.195-250-26-87.cpanel.site/community-e
 vents/event/13924-line-dancing.html
END:VEVENT
END:VCALENDAR
