BEGIN:VCALENDAR
VERSION:2.0
PRODID:-//https://www.lakebernadettehoa.com.195-250-26-87.cpanel.site///NONSGML kigkonsult.se iCalcreator 2.10.15//
METHOD:PUBLISH
BEGIN:VEVENT
UID:20260422T094227UTC-6571HIM6x8@https://www.lakebernadettehoa.com.195-250
 -26-87.cpanel.site/
DTSTAMP:20260422T094227Z
DESCRIPTION:Except Holidays or Clubhouse Closures https://www.lakebernadett
 ehoa.com.195-250-26-87.cpanel.site/community-events/event/14942-aqua-aerob
 ics.html
DTSTART:20300206T110000Z
DTEND:20300206T120000Z
LOCATION:Lake Bernadette Community Clubhouse (5410 Golf Links Blvd\, Zephyr
 hills\, Florida\, 33541)
SUMMARY:Aqua Aerobics
URL:https://www.lakebernadettehoa.com.195-250-26-87.cpanel.site/community-e
 vents/event/14942-aqua-aerobics.html
END:VEVENT
END:VCALENDAR
