BEGIN:VCALENDAR
VERSION:2.0
PRODID:-//https://www.lakebernadettehoa.com.195-250-26-87.cpanel.site///NONSGML kigkonsult.se iCalcreator 2.10.15//
METHOD:PUBLISH
BEGIN:VEVENT
UID:20260422T092534UTC-7211583vW6@https://www.lakebernadettehoa.com.195-250
 -26-87.cpanel.site/
DTSTAMP:20260422T092534Z
DESCRIPTION: https://www.lakebernadettehoa.com.195-250-26-87.cpanel.site/co
 mmunity-events/event/16754-zumba.html
DTSTART:20260622T180000Z
DTEND:20260622T190000Z
LOCATION:Lake Bernadette Community Clubhouse (5410 Golf Links Blvd\, Zephyr
 hills\, Florida\, 33541)
SUMMARY:Zumba
URL:https://www.lakebernadettehoa.com.195-250-26-87.cpanel.site/community-e
 vents/event/16754-zumba.html
END:VEVENT
END:VCALENDAR
